BEGIN:VCALENDAR
VERSION:2.0
PRODID:-//BV Siegen–Olpe–Wittgenstein - ECPv6.15.20//NONSGML v1.0//EN
CALSCALE:GREGORIAN
METHOD:PUBLISH
X-WR-CALNAME:BV Siegen–Olpe–Wittgenstein
X-ORIGINAL-URL:https://www.unser-verband.com
X-WR-CALDESC:Veranstaltungen für BV Siegen–Olpe–Wittgenstein
REFRESH-INTERVAL;VALUE=DURATION:PT1H
X-Robots-Tag:noindex
X-PUBLISHED-TTL:PT1H
BEGIN:VTIMEZONE
TZID:Europe/Berlin
BEGIN:DAYLIGHT
TZOFFSETFROM:+0100
TZOFFSETTO:+0200
TZNAME:CEST
DTSTART:20250330T010000
END:DAYLIGHT
BEGIN:STANDARD
TZOFFSETFROM:+0200
TZOFFSETTO:+0100
TZNAME:CET
DTSTART:20251026T010000
END:STANDARD
BEGIN:DAYLIGHT
TZOFFSETFROM:+0100
TZOFFSETTO:+0200
TZNAME:CEST
DTSTART:20260329T010000
END:DAYLIGHT
BEGIN:STANDARD
TZOFFSETFROM:+0200
TZOFFSETTO:+0100
TZNAME:CET
DTSTART:20261025T010000
END:STANDARD
BEGIN:DAYLIGHT
TZOFFSETFROM:+0100
TZOFFSETTO:+0200
TZNAME:CEST
DTSTART:20270328T010000
END:DAYLIGHT
BEGIN:STANDARD
TZOFFSETFROM:+0200
TZOFFSETTO:+0100
TZNAME:CET
DTSTART:20271031T010000
END:STANDARD
END:VTIMEZONE
BEGIN:VEVENT
DTSTART;TZID=Europe/Berlin:20260424T150000
DTEND;TZID=Europe/Berlin:20260426T170000
DTSTAMP:20260422T140716
CREATED:20260123T124245Z
LAST-MODIFIED:20260305T191045Z
UID:5147-1777042800-1777222800@www.unser-verband.com
SUMMARY:Dressurlehrgang bei Stefan Michalke
DESCRIPTION:Dressurlehrgang mit Stefan Michalke\n📅 24.–26. April 2026 \n📍 Springplatz Eiserfeld (mit Dressurviereck 20 x 60 m) \nWir freuen uns\, euch einen Dressurlehrgang mit Stefan Michalke in Eiserfeld anbieten zu können! \nÜber Stefan Michalke\n\nMehrfach bis Grand Prix auf selbst ausgebildeten Pferden erfolgreich\nTräger des Goldenen Reitabzeichens\nTrainer von Reitern bis zur schweren Klasse\nLehrgänge im In- und Ausland\nRichter bis Grand Prix\n\n  \nAblauf des Lehrgangs\nEs kann an 2 oder 3 Tagen teilgenommen werden \n\nFreitag (ab Nachmittag): Lockeres Reiten & Kennenlernen\nSamstag: Dressurarbeit\, ggf. mit Stangenarbeit\nSonntag: Reiten einer Aufgabe mit individuellem Feedback\n\n  \nTeilnahmevoraussetzungen\nSicheres Reiten „am Zügel“. Hilfszügel sind erlaubt \n  \nOrganisation & Rahmen\n\nUnterricht mit Lautsprecher und Mikrofon\nVerkauf von Essen und Getränken vor Ort\n\n  \nKosten:\n\n\n\nNiveau\nAnzahl Reiter pro Gruppe\nDauer\nKosten Sa + So\nKosten Fr. – So.\n\n\nE und A\n3\n45 Min.\n100 €\n150 €\n\n\nL\n2\n45. Min\n140 €\n210 €\n\n\nM und höher\n1\n30. Min\n140 €\n210 €\n\n\n\nDie Lehrgangskosten sind vorab zu überweisen. \nIndividuelle Anpassungen möglich\n\nLängere Einheiten oder kleinere Gruppen gegen Aufpreis\nTeilnahme nur an einzelnen Tagen (z. B. nur Freitag & Sonntag) je nach Anmeldesituation möglich\n\nSprecht uns gerne an – wir finden eine passende Lösung für euch! \n  \nVerbindliche Anmeldung* per Mail am info@unser-verband.com mit Angabe folgender Informationen:  \n\nReitername und Kontaktinformationen\, zur Organisation würden wir gerne eine WhatsApp Gruppe erstellen \nNiveau\n2 oder 3 Tage\nggf. individuelle Wünsche\n\n  \n*Verbindliche Anmeldung: die Anmeldung ist rechtlich bindend und verpflichtet zur Teilnahme. Das bedeutet konkret:  fester Lehrgangsplatz\, Zahlung der Lehrgangskosten\, bei Abmeldung besteht die Möglichkeit einen Ersatzreiter zu finden
URL:https://www.unser-verband.com/termin/dressurlehrgang-bei-stefan-michalke/
LOCATION:RV Eiserfeld
CATEGORIES:Lehrgang
ATTACH;FMTTYPE=image/png:https://www.unser-verband.com/wp-content/uploads/2026/01/Dressurlehrgang.png
END:VEVENT
BEGIN:VEVENT
DTSTART;TZID=Europe/Berlin:20260426T130000
DTEND;TZID=Europe/Berlin:20260426T170000
DTSTAMP:20260422T140716
CREATED:20250916T061110Z
LAST-MODIFIED:20251102T180725Z
UID:4772-1777208400-1777222800@www.unser-verband.com
SUMMARY:Westfälische Bildungsprogramm\, Lizenzverlängerung: Biomechnik des Reiters
DESCRIPTION:Die Biomechanik des Reiters ist eine wesentliche Voraussetzung\, um die Motivation und Entwicklung des Pferdes positiv zu beeinflussen. \nWie man ein besseres Gefühl für seinen eigenen Körper bekommt und diesen situationsangemessen passend einsetzt\, erklärt Sonja Vorsmann im Seminar. \nSie ist Bereiterin FN und hat ihre Ausbildung bei Reitmeister Hubertus Schmidt absolviert. Darüber hinaus ist sie Physiotherapeutin (für Menschen) und hat sich auf korrektes\, gefühlvolles Reiten unter Einbeziehung von biomechanischen Aspekten spezialisiert. \nDas Seminar geht von 13 – 17 Uhr. \nFür dieses Angebot werden Lerneinheiten (LE) zur Verlängerung der DOSB-Lizenz anerkannt: 4 LE\, Profil 3. \nKontakt: Susanne Remkamp\, Tel. 0251 39003319\, remkamp@pv-muenster.de \nhttps://www.pferdesportwestfalen.de/bildungsprogramm/qualifizierung/fortbildung-pferdesport/reiten/reiten-1/g2026-320b-306312  \nhttps://www.pferdesportwestfalen.de/bildungsprogramm-navigation#c3553 
URL:https://www.unser-verband.com/termin/westfaelische-bildungsprogramm-biomechnik-des-reiters/
LOCATION:Reitschule Büdenbender\, Lahnhof 13\, Netphen\, 57250
CATEGORIES:Seminar Westfalen
ATTACH;FMTTYPE=image/png:https://www.unser-verband.com/wp-content/uploads/2025/09/Westfalen.png
END:VEVENT
BEGIN:VEVENT
DTSTART;VALUE=DATE:20260509
DTEND;VALUE=DATE:20260511
DTSTAMP:20260422T140716
CREATED:20251125T110229Z
LAST-MODIFIED:20251125T110229Z
UID:4931-1778284800-1778457599@www.unser-verband.com
SUMMARY:Voltiturnier RuF Kindelsberg
DESCRIPTION:
URL:https://www.unser-verband.com/termin/voltiturnier-ruf-kindelsberg/
LOCATION:RV Kindelsberg
END:VEVENT
BEGIN:VEVENT
DTSTART;VALUE=DATE:20260523
DTEND;VALUE=DATE:20260526
DTSTAMP:20260422T140716
CREATED:20251125T110314Z
LAST-MODIFIED:20251125T110314Z
UID:4933-1779494400-1779753599@www.unser-verband.com
SUMMARY:Hofgut Dautenbach LPO Springen
DESCRIPTION:
URL:https://www.unser-verband.com/termin/hofgut-dautenbach-lpo-springen/
LOCATION:Hofgut Dautenbach\, Tiefenbacher Str. 2\, 57076 Siegen
END:VEVENT
BEGIN:VEVENT
DTSTART;VALUE=DATE:20260531
DTEND;VALUE=DATE:20260601
DTSTAMP:20260422T140716
CREATED:20251125T110407Z
LAST-MODIFIED:20251207T172343Z
UID:4935-1780185600-1780271999@www.unser-verband.com
SUMMARY:RV Johannland WBO-Tag
DESCRIPTION:
URL:https://www.unser-verband.com/termin/rv-johannland-wbo-tag/
LOCATION:RV Johannland
END:VEVENT
BEGIN:VEVENT
DTSTART;VALUE=DATE:20260620
DTEND;VALUE=DATE:20260622
DTSTAMP:20260422T140716
CREATED:20251125T110511Z
LAST-MODIFIED:20251125T110511Z
UID:4937-1781913600-1782086399@www.unser-verband.com
SUMMARY:RuF Kindelsberg WBO
DESCRIPTION:
URL:https://www.unser-verband.com/termin/ruf-kindelsberg-wbo/
LOCATION:RV Kindelsberg
END:VEVENT
BEGIN:VEVENT
DTSTART;VALUE=DATE:20260627
DTEND;VALUE=DATE:20260629
DTSTAMP:20260422T140716
CREATED:20251125T110551Z
LAST-MODIFIED:20251127T200539Z
UID:4939-1782518400-1782691199@www.unser-verband.com
SUMMARY:RuF Netphen LPO Dressur
DESCRIPTION:
URL:https://www.unser-verband.com/termin/ruf-netphen-lpo-dressur-bis-m/
LOCATION:RV Netphen
END:VEVENT
BEGIN:VEVENT
DTSTART;VALUE=DATE:20260710
DTEND;VALUE=DATE:20260713
DTSTAMP:20260422T140716
CREATED:20251125T110631Z
LAST-MODIFIED:20251125T110631Z
UID:4941-1783641600-1783900799@www.unser-verband.com
SUMMARY:Hofgut Dautenbach LPO Dressur
DESCRIPTION:
URL:https://www.unser-verband.com/termin/hofgut-dautenbach-lpo-dressur/
LOCATION:Hofgut Dautenbach\, Tiefenbacher Str. 2\, 57076 Siegen
END:VEVENT
BEGIN:VEVENT
DTSTART;TZID=Europe/Berlin:20260717T120000
DTEND;TZID=Europe/Berlin:20260719T173000
DTSTAMP:20260422T140716
CREATED:20251125T110734Z
LAST-MODIFIED:20260331T173712Z
UID:4943-1784289600-1784482200@www.unser-verband.com
SUMMARY:BV-Turnier Springen inkl. Verbandsmeisterschaft
DESCRIPTION:
URL:https://www.unser-verband.com/termin/bv-turnier-dressur-inkl-verbandsmeisterschaft/
LOCATION:Hofgut Dautenbach\, Tiefenbacher Str. 2\, 57076 Siegen
END:VEVENT
BEGIN:VEVENT
DTSTART;TZID=Europe/Berlin:20260718T080000
DTEND;TZID=Europe/Berlin:20260722T170000
DTSTAMP:20260422T140716
CREATED:20260310T141932Z
LAST-MODIFIED:20260310T145010Z
UID:5256-1784361600-1784739600@www.unser-verband.com
SUMMARY:Reitabzeichen- und Longierlehrgang
DESCRIPTION:Screenshot
URL:https://www.unser-verband.com/termin/reitabzeichen-und-longierlehrgang/
LOCATION:RV Hellertal
CATEGORIES:Lehrgang
END:VEVENT
BEGIN:VEVENT
DTSTART;VALUE=DATE:20260725
DTEND;VALUE=DATE:20260727
DTSTAMP:20260422T140716
CREATED:20251125T110822Z
LAST-MODIFIED:20260331T173550Z
UID:4945-1784937600-1785110399@www.unser-verband.com
SUMMARY:BV-Turnier Dressur inkl. Verbandsmeisterschaft
DESCRIPTION: 
URL:https://www.unser-verband.com/termin/bv-turnier-springen-inkl-verbandsmeisterschaft/
LOCATION:Hofgut Dautenbach\, Tiefenbacher Str. 2\, 57076 Siegen
END:VEVENT
BEGIN:VEVENT
DTSTART;VALUE=DATE:20260829
DTEND;VALUE=DATE:20260831
DTSTAMP:20260422T140716
CREATED:20251125T110904Z
LAST-MODIFIED:20251125T110904Z
UID:4947-1787961600-1788134399@www.unser-verband.com
SUMMARY:RV Johannland LPO
DESCRIPTION:
URL:https://www.unser-verband.com/termin/rv-johannland-lpo/
LOCATION:RV Johannland
END:VEVENT
BEGIN:VEVENT
DTSTART;VALUE=DATE:20260911
DTEND;VALUE=DATE:20260914
DTSTAMP:20260422T140716
CREATED:20251125T110941Z
LAST-MODIFIED:20251125T110941Z
UID:4949-1789084800-1789343999@www.unser-verband.com
SUMMARY:RV Giebelwald LPO
DESCRIPTION:
URL:https://www.unser-verband.com/termin/rv-giebelwald-lpo/
LOCATION:RV Giebelwald
END:VEVENT
BEGIN:VEVENT
DTSTART;VALUE=DATE:20260926
DTEND;VALUE=DATE:20260928
DTSTAMP:20260422T140716
CREATED:20251125T111025Z
LAST-MODIFIED:20251125T111025Z
UID:4951-1790380800-1790553599@www.unser-verband.com
SUMMARY:RuF Kindelsberg Dressur LPO
DESCRIPTION:
URL:https://www.unser-verband.com/termin/ruf-kindelsberg-dressur-lpo/
LOCATION:RV Kindelsberg
END:VEVENT
END:VCALENDAR