BEGIN:VCALENDAR
VERSION:2.0
PRODID:-//BV Siegen–Olpe–Wittgenstein - ECPv6.15.20//NONSGML v1.0//EN
CALSCALE:GREGORIAN
METHOD:PUBLISH
X-ORIGINAL-URL:https://www.unser-verband.com
X-WR-CALDESC:Veranstaltungen für BV Siegen–Olpe–Wittgenstein
REFRESH-INTERVAL;VALUE=DURATION:PT1H
X-Robots-Tag:noindex
X-PUBLISHED-TTL:PT1H
BEGIN:VTIMEZONE
TZID:Europe/Helsinki
BEGIN:DAYLIGHT
TZOFFSETFROM:+0200
TZOFFSETTO:+0300
TZNAME:EEST
DTSTART:20240331T010000
END:DAYLIGHT
BEGIN:STANDARD
TZOFFSETFROM:+0300
TZOFFSETTO:+0200
TZNAME:EET
DTSTART:20241027T010000
END:STANDARD
BEGIN:DAYLIGHT
TZOFFSETFROM:+0200
TZOFFSETTO:+0300
TZNAME:EEST
DTSTART:20250330T010000
END:DAYLIGHT
BEGIN:STANDARD
TZOFFSETFROM:+0300
TZOFFSETTO:+0200
TZNAME:EET
DTSTART:20251026T010000
END:STANDARD
BEGIN:DAYLIGHT
TZOFFSETFROM:+0200
TZOFFSETTO:+0300
TZNAME:EEST
DTSTART:20260329T010000
END:DAYLIGHT
BEGIN:STANDARD
TZOFFSETFROM:+0300
TZOFFSETTO:+0200
TZNAME:EET
DTSTART:20261025T010000
END:STANDARD
END:VTIMEZONE
BEGIN:VTIMEZONE
TZID:Europe/Berlin
BEGIN:DAYLIGHT
TZOFFSETFROM:+0100
TZOFFSETTO:+0200
TZNAME:CEST
DTSTART:20240331T010000
END:DAYLIGHT
BEGIN:STANDARD
TZOFFSETFROM:+0200
TZOFFSETTO:+0100
TZNAME:CET
DTSTART:20241027T010000
END:STANDARD
BEGIN:DAYLIGHT
TZOFFSETFROM:+0100
TZOFFSETTO:+0200
TZNAME:CEST
DTSTART:20250330T010000
END:DAYLIGHT
BEGIN:STANDARD
TZOFFSETFROM:+0200
TZOFFSETTO:+0100
TZNAME:CET
DTSTART:20251026T010000
END:STANDARD
BEGIN:DAYLIGHT
TZOFFSETFROM:+0100
TZOFFSETTO:+0200
TZNAME:CEST
DTSTART:20260329T010000
END:DAYLIGHT
BEGIN:STANDARD
TZOFFSETFROM:+0200
TZOFFSETTO:+0100
TZNAME:CET
DTSTART:20261025T010000
END:STANDARD
END:VTIMEZONE
BEGIN:VEVENT
DTSTART;VALUE=DATE:20250817
DTEND;VALUE=DATE:20250818
DTSTAMP:20260420T142034
CREATED:20241001T074551Z
LAST-MODIFIED:20241126T101947Z
UID:3947-1755388800-1755475199@www.unser-verband.com
SUMMARY:LPO Dressur Reitstall Jung
DESCRIPTION:Es finden folgende Wertungsprüfungen statt: \n\n\n\nE DR\nA SP\nA DR\nL SP\nL DR\nM SP\nM DR\n\n\nx\n\n\n\nx\n\nx
URL:https://www.unser-verband.com/termin/lpo-dressur-reitstall-jung/
LOCATION:Reitstall Jung\, Bollenberg 21\, 57234 Wilnsdorf
END:VEVENT
BEGIN:VEVENT
DTSTART;TZID=Europe/Berlin:20250823T080000
DTEND;TZID=Europe/Berlin:20250824T170000
DTSTAMP:20260420T142034
CREATED:20250814T133612Z
LAST-MODIFIED:20250814T133612Z
UID:4652-1755936000-1756054800@www.unser-verband.com
SUMMARY:Sitzschulung bei Rolf Grebe
DESCRIPTION:Alle Infos auf der Homepage: https://rv-giebelwald.de/termine/
URL:https://www.unser-verband.com/termin/sitzschulung-bei-rolf-grebe/
LOCATION:RV Giebelwald
CATEGORIES:Lehrgang
END:VEVENT
BEGIN:VEVENT
DTSTART;VALUE=DATE:20250830
DTEND;VALUE=DATE:20250901
DTSTAMP:20260420T142034
CREATED:20240828T075238Z
LAST-MODIFIED:20250604T170850Z
UID:3814-1756512000-1756684799@www.unser-verband.com
SUMMARY:LPO Turnier RV Johannland
DESCRIPTION:Es finden folgende Wertungsprüfungen statt: \n\n\n\nE SP\nE DR\nA SP\nA DR\nL SP\nL DR\nM SP\n\n\nx\nx\nx\n\nx\n\nx\n\n\n\n 
URL:https://www.unser-verband.com/termin/lpo-turnier-rv-johannland/
END:VEVENT
END:VCALENDAR